xen.org
2013-Jan-25 15:09 UTC
[xen-unstable test] 15217: trouble: preparing/queued/running
flight 15217 xen-unstable running [real]
http://www.chiark.greenend.org.uk/~xensrcts/logs/15217/
Failures and problems with tests :-(
Tests which did not succeed and are blocking,
including tests which could not be run:
test-amd64-amd64-xl-sedf-pin <none executed> queued
test-amd64-i386-xl-multivcpu <none executed> queued
test-amd64-amd64-xl-pcipt-intel <none executed> queued
test-amd64-amd64-xl-sedf <none executed> queued
test-amd64-i386-rhel6hvm-amd <none executed> queued
test-amd64-i386-qemut-rhel6hvm-amd <none executed> queued
test-amd64-i386-qemuu-rhel6hvm-amd <none executed> queued
test-amd64-amd64-xl <none executed> queued
test-amd64-i386-xend-winxpsp3 <none executed> queued
test-amd64-i386-win <none executed> queued
test-amd64-amd64-pv <none executed> queued
test-amd64-i386-qemut-win-vcpus1 <none executed> queued
test-amd64-i386-xl-win-vcpus1 <none executed> queued
build-amd64 4 xen-build running [st=running!]
test-amd64-amd64-xl-qemut-win7-amd64 <none executed>
queued
test-amd64-amd64-xl-qemuu-winxpsp3 <none executed> queued
test-amd64-amd64-xl-win7-amd64 <none executed> queued
test-amd64-i386-pv <none executed> queued
test-amd64-i386-xl-credit2 <none executed> queued
test-amd64-i386-xl <none executed> queued
build-amd64-pvops 4 kernel-build running [st=running!]
test-amd64-amd64-win <none executed> queued
test-amd64-amd64-xl-qemut-winxpsp3 <none executed> queued
test-amd64-i386-xl-qemut-win7-amd64 <none executed>
queued
test-amd64-i386-xl-win7-amd64 <none executed> queued
test-amd64-amd64-xl-winxpsp3 <none executed> queued
test-amd64-i386-win-vcpus1 <none executed> queued
test-amd64-i386-rhel6hvm-intel <none executed> queued
test-amd64-i386-qemuu-rhel6hvm-intel <none executed>
queued
test-amd64-i386-qemut-rhel6hvm-intel <none executed>
queued
test-amd64-amd64-qemut-win <none executed> queued
test-amd64-amd64-pair <none executed> queued
test-amd64-i386-pair <none executed> queued
build-amd64-oldkern 4 xen-build running [st=running!]
build-i386-pvops 2 host-install(2) running [st=running!]
build-i386 4 xen-build running [st=running!]
test-amd64-i386-xend-qemut-winxpsp3 <none executed>
queued
test-amd64-i386-xl-winxpsp3-vcpus1 <none executed> queued
test-amd64-i386-xl-qemut-winxpsp3-vcpus1 <none executed>
queued
build-i386-oldkern 4 xen-build running [st=running!]
test-amd64-i386-xl-qemut-win-vcpus1 <none executed>
queued
test-amd64-i386-qemut-win <none executed> queued
test-amd64-amd64-xl-win <none executed> queued
test-amd64-amd64-xl-qemuu-win7-amd64 <none executed>
queued
test-amd64-amd64-xl-qemut-win <none executed> queued
version targeted for testing:
xen 83a3fa9c8434
baseline version:
xen 5af4f2ab06f3
------------------------------------------------------------
People who touched revisions under test:
Dan Magenheimer <dan.magenheimer@oracle.com>
Daniel De Graaf <dgdegra@tycho.nsa.gov>
Dario Faggioli <dario.faggioli@citrix.com>
Dongxiao Xu <dongxiao.xu@intel.com>
Ian Campbell <ian.campbell@citrix.com>
Ian Jackson <ian.jackson@eu.citrix.com>
Jan Beulich <jbeulich@suse.com>
Jim Fehlig <jfehlig@suse.com>
Jun Nakajima <jun.nakajima@intel.com>
Keir Fraser <keir@xen.org>
Matt Wilson <msw@amazon.com>
Razvan Cojocaru <rzvncj@gmail.com>
Roger Pau Monn? <roger.pau@citrix.com>
Stefano Stabellini <stefano.stabellini@eu.citrix.com>
Tim Deegan <tim@xen.org>
Tomasz Wroblewski <tomasz.wroblewski@citrix.com>
------------------------------------------------------------
jobs:
build-amd64 running
build-i386 running
build-amd64-oldkern running
build-i386-oldkern running
build-amd64-pvops running
build-i386-pvops preparing
test-amd64-amd64-xl queued
test-amd64-i386-xl queued
test-amd64-i386-rhel6hvm-amd queued
test-amd64-i386-qemut-rhel6hvm-amd queued
test-amd64-i386-qemuu-rhel6hvm-amd queued
test-amd64-amd64-xl-qemut-win7-amd64 queued
test-amd64-i386-xl-qemut-win7-amd64 queued
test-amd64-amd64-xl-qemuu-win7-amd64 queued
test-amd64-amd64-xl-win7-amd64 queued
test-amd64-i386-xl-win7-amd64 queued
test-amd64-i386-xl-credit2 queued
test-amd64-amd64-xl-pcipt-intel queued
test-amd64-i386-rhel6hvm-intel queued
test-amd64-i386-qemut-rhel6hvm-intel queued
test-amd64-i386-qemuu-rhel6hvm-intel queued
test-amd64-i386-xl-multivcpu queued
test-amd64-amd64-pair queued
test-amd64-i386-pair queued
test-amd64-amd64-xl-sedf-pin queued
test-amd64-amd64-pv queued
test-amd64-i386-pv queued
test-amd64-amd64-xl-sedf queued
test-amd64-i386-win-vcpus1 queued
test-amd64-i386-qemut-win-vcpus1 queued
test-amd64-i386-xl-qemut-win-vcpus1 queued
test-amd64-i386-xl-win-vcpus1 queued
test-amd64-i386-xl-qemut-winxpsp3-vcpus1 queued
test-amd64-i386-xl-winxpsp3-vcpus1 queued
test-amd64-amd64-win queued
test-amd64-i386-win queued
test-amd64-amd64-qemut-win queued
test-amd64-i386-qemut-win queued
test-amd64-amd64-xl-qemut-win queued
test-amd64-amd64-xl-win queued
test-amd64-i386-xend-qemut-winxpsp3 queued
test-amd64-amd64-xl-qemut-winxpsp3 queued
test-amd64-amd64-xl-qemuu-winxpsp3 queued
test-amd64-i386-xend-winxpsp3 queued
test-amd64-amd64-xl-winxpsp3 queued
------------------------------------------------------------
sg-report-flight on woking.cam.xci-test.com
logs: /home/xc_osstest/logs
images: /home/xc_osstest/images
Logs, config files, etc. are available at
http://www.chiark.greenend.org.uk/~xensrcts/logs
Test harness code can be found at
http://xenbits.xensource.com/gitweb?p=osstest.git;a=summary
Not pushing.
(No revision log; it would be 890 lines long.)