flight 12015 xen-unstable running [real]
http://www.chiark.greenend.org.uk/~xensrcts/logs/12015/
Failures and problems with tests :-(
Tests which did not succeed and are blocking,
including tests which could not be run:
test-amd64-amd64-xl-qemuu-winxpsp3 <none executed> queued
test-amd64-amd64-xl-qemuu-win7-amd64 <none executed>
queued
test-i386-i386-xl-qemuu-winxpsp3 <none executed> queued
test-amd64-i386-qemuu-rhel6hvm-intel <none executed>
queued
test-amd64-amd64-xl-pcipt-intel <none executed> queued
test-amd64-i386-rhel6hvm-amd <none executed> queued
test-amd64-i386-rhel6hvm-intel <none executed> queued
test-amd64-i386-qemuu-rhel6hvm-amd <none executed> queued
test-amd64-i386-pv <none executed> queued
test-i386-i386-xl <none executed> queued
test-amd64-i386-xl <none executed> queued
test-amd64-amd64-xl <none executed> queued
test-amd64-amd64-xl-sedf <none executed> queued
test-amd64-amd64-pair <none executed> queued
test-amd64-i386-pair <none executed> queued
test-amd64-amd64-pv <none executed> queued
test-amd64-i386-xl-winxpsp3-vcpus1 <none executed> queued
test-amd64-i386-xend-winxpsp3 <none executed> queued
test-amd64-amd64-win <none executed> queued
test-amd64-i386-xl-win7-amd64 <none executed> queued
build-i386-oldkern 1 hosts-allocate running [st=running!]
test-amd64-i386-xl-win-vcpus1 <none executed> queued
build-i386-pvops 1 hosts-allocate running [st=running!]
build-i386 1 hosts-allocate running [st=running!]
test-amd64-amd64-xl-sedf-pin <none executed> queued
test-i386-i386-pv <none executed> queued
test-amd64-i386-xl-credit2 <none executed> queued
test-amd64-i386-win-vcpus1 <none executed> queued
test-amd64-i386-xl-multivcpu <none executed> queued
test-amd64-amd64-xl-winxpsp3 <none executed> queued
test-i386-i386-xl-winxpsp3 <none executed> queued
build-amd64-pvops 1 hosts-allocate running [st=running!]
test-amd64-i386-win <none executed> queued
build-amd64 2 host-install(2) running [st=running!]
test-amd64-amd64-xl-win7-amd64 <none executed> queued
build-amd64-oldkern 1 hosts-allocate running [st=running!]
test-i386-i386-pair <none executed> queued
test-amd64-amd64-xl-win <none executed> queued
test-i386-i386-win <none executed> queued
test-i386-i386-xl-win <none executed> queued
version targeted for testing:
xen 8ee81ceda8c9
baseline version:
xen a88ba599add1
------------------------------------------------------------
People who touched revisions under test:
Bamvor Jian Zhang <bjzhang@suse.com>
George Dunlap <george.dunlap@eu.citrix.com>
Ian Jackson <ian.jackson@eu.citrix.com>
Jean Guyader <jean.guyader@eu.citrix.com>
Roger Pau Monne <roger.pau@entel.upc.edu>
------------------------------------------------------------
jobs:
build-amd64 preparing
build-i386 preparing
build-amd64-oldkern preparing
build-i386-oldkern preparing
build-amd64-pvops preparing
build-i386-pvops preparing
test-amd64-amd64-xl queued
test-amd64-i386-xl queued
test-i386-i386-xl queued
test-amd64-i386-rhel6hvm-amd queued
test-amd64-i386-qemuu-rhel6hvm-amd queued
test-amd64-amd64-xl-qemuu-win7-amd64 queued
test-amd64-amd64-xl-win7-amd64 queued
test-amd64-i386-xl-win7-amd64 queued
test-amd64-i386-xl-credit2 queued
test-amd64-amd64-xl-pcipt-intel queued
test-amd64-i386-rhel6hvm-intel queued
test-amd64-i386-qemuu-rhel6hvm-intel queued
test-amd64-i386-xl-multivcpu queued
test-amd64-amd64-pair queued
test-amd64-i386-pair queued
test-i386-i386-pair queued
test-amd64-amd64-xl-sedf-pin queued
test-amd64-amd64-pv queued
test-amd64-i386-pv queued
test-i386-i386-pv queued
test-amd64-amd64-xl-sedf queued
test-amd64-i386-win-vcpus1 queued
test-amd64-i386-xl-win-vcpus1 queued
test-amd64-i386-xl-winxpsp3-vcpus1 queued
test-amd64-amd64-win queued
test-amd64-i386-win queued
test-i386-i386-win queued
test-amd64-amd64-xl-win queued
test-i386-i386-xl-win queued
test-amd64-amd64-xl-qemuu-winxpsp3 queued
test-i386-i386-xl-qemuu-winxpsp3 queued
test-amd64-i386-xend-winxpsp3 queued
test-amd64-amd64-xl-winxpsp3 queued
test-i386-i386-xl-winxpsp3 queued
------------------------------------------------------------
sg-report-flight on woking.cam.xci-test.com
logs: /home/xc_osstest/logs
images: /home/xc_osstest/images
Logs, config files, etc. are available at
http://www.chiark.greenend.org.uk/~xensrcts/logs
Test harness code can be found at
http://xenbits.xensource.com/gitweb?p=osstest.git;a=summary
Not pushing.
------------------------------------------------------------
changeset: 24861:8ee81ceda8c9
tag: tip
user: Ian Jackson <ian.jackson@eu.citrix.com>
date: Wed Feb 22 01:55:04 2012 +0000
.gitignore: add autoconf-related files
Signed-off-by: Ian Jackson <ian.jackson@eu.citrix.com>
Committed-by: Ian Jackson <Ian.Jackson@eu.citrix.com>
changeset: 24860:a19c6d90fd41
user: Ian Jackson <ian.jackson@eu.citrix.com>
date: Wed Feb 22 01:55:03 2012 +0000
build: add autoconf to replace custom checks in tools/check
Added autotools magic to replace custom check scripts. The previous
checks have been ported to autoconf, and some additional ones have
been added (plus the suggestions from running autoscan). Two files are
created as a result from executing configure script, config/Tools.mk
and config.h.
conf/Tools.mk is included by tools/Rules.mk, and contains most of the
options previously defined in .config, that can now be set passing
parameters or defining environment variables when executing configure
script.
config.h is only used by libxl/xl to detect yajl_version.h.
[ tools/config.sub and config.guess copied from
autotools-dev 20100122.1 from Debian squeeze i386,
which is GPLv2.
tools/configure generated using the included ./autogen.sh
which ran autoconf 2.67-2 from Debian squeeze i386. autoconf
is GPLv3+ but has a special exception for the autoconf output;
this exception applies to us and exempts us from complying
with GPLv3+ for configure, which is good as Xen is GPL2 only.
- Ian Jackson ]
Signed-off-by: Roger Pau Monne <roger.pau@entel.upc.edu>
Tested-by: Ian Jackson <ian.jackson@eu.citrix.com>
Committed-by: Ian Jackson <Ian.Jackson@eu.citrix.com>
changeset: 24859:6a34a42a2b5d
user: Bamvor Jian Zhang <bjzhang@suse.com>
date: Tue Feb 21 18:01:04 2012 +0000
libxl: Export libxl_event.h
This fixes a compile error in libvirt.
Signed-off-by: Bamvor Jian Zhang <bjzhang@suse.com>
Acked-by: Ian Jackson <ian.jackson@eu.citrix.com>
Committed-by: Ian Jackson <ian.jackson@eu.citrix.com>
changeset: 24858:a88ba599add1
user: George Dunlap <george.dunlap@eu.citrix.com>
date: Tue Feb 21 17:45:59 2012 +0000
libxl: cleanup: Remove pointless ERRNOVAL
Just call LIBXL__LOG rather than passing a meaningless ERRNOVAL.
Signed-off-by: George Dunlap <george.dunlap@eu.citrix.com>
Acked-by: Ian Jackson <ian.jackson@eu.citrix.com>
Committed-by: Ian Jackson <ian.jackson@eu.citrix.com>
=======================================commit
128de2549c5f24e4a437b86bd2e46f023976d50a
Author: Jean Guyader <jean.guyader@eu.citrix.com>
Date: Mon Feb 20 16:21:47 2012 +0000
Intel GPU passthrough: Host bridge config space
Expose more host bridge config space value to make the driver happy
for all the different revisions of the device.
Signed-off-by: Jean Guyader <jean.guyader@eu.citrix.com>