flight 11732 xen-unstable running [real]
http://www.chiark.greenend.org.uk/~xensrcts/logs/11732/
Failures and problems with tests :-(
Tests which did not succeed and are blocking,
including tests which could not be run:
test-amd64-amd64-xl-pcipt-intel <none executed> queued
test-amd64-i386-pv <none executed> queued
test-amd64-amd64-pv <none executed> queued
test-amd64-i386-xl-credit2 <none executed> queued
test-amd64-amd64-xl-sedf <none executed> queued
test-i386-i386-pair <none executed> queued
test-amd64-i386-pair <none executed> queued
test-amd64-amd64-xl-sedf-pin <none executed> queued
test-amd64-amd64-xl <none executed> queued
test-i386-i386-xl <none executed> queued
test-amd64-i386-rhel6hvm-intel <none executed> queued
build-amd64-pvops 2 host-install(2) running [st=running!]
test-amd64-i386-rhel6hvm-amd <none executed> queued
test-i386-i386-pv <none executed> queued
build-amd64-oldkern 1 hosts-allocate running [st=running!]
build-amd64 1 hosts-allocate running [st=running!]
test-amd64-i386-xl <none executed> queued
test-amd64-i386-xl-multivcpu <none executed> queued
build-i386 1 hosts-allocate running [st=running!]
build-i386-pvops 1 hosts-allocate running [st=running!]
build-i386-oldkern 1 hosts-allocate running [st=running!]
test-amd64-amd64-pair <none executed> queued
test-amd64-amd64-xl-win7-amd64 <none executed> queued
test-i386-i386-win <none executed> queued
test-amd64-i386-xend-winxpsp3 <none executed> queued
test-amd64-amd64-xl-win <none executed> queued
test-i386-i386-xl-win <none executed> queued
test-amd64-i386-xl-win-vcpus1 <none executed> queued
test-amd64-i386-win-vcpus1 <none executed> queued
test-amd64-i386-win <none executed> queued
test-amd64-i386-xl-win7-amd64 <none executed> queued
test-i386-i386-xl-winxpsp3 <none executed> queued
test-amd64-amd64-win <none executed> queued
test-amd64-amd64-xl-winxpsp3 <none executed> queued
test-amd64-i386-xl-winxpsp3-vcpus1 <none executed> queued
version targeted for testing:
xen 39df93acd408
baseline version:
xen e2722b24dc09
------------------------------------------------------------
People who touched revisions under test:
Adin Scannell <adin@scannell.ca>
Alex Zeffertt <alex.zeffertt@eu.citrix.com>
Andres Lagar-Cavilla <andres@lagarcavilla.org>
Andrew Cooper <andrew.cooper3@citrix.com>
Daniel De Graaf <dgdegra@tycho.nsa.gov>
Dario Faggioli <dario.faggioli@citrix.com>
Diego Ongaro <diego.ongaro@citrix.com>
Ian Campbell <ian.campbell@citrix.com>
Ian Jackson <ian.jackson@eu.citrix.com>
Jan Beulich <jbeulich@suse.com>
Jim Fehlig <jfehlig@suse.com>
Keir Fraser <keir@xen.org>
Olaf Hering <olaf@aepfle.de>
Roger Pau Monne <roger.pau@entel.upc.edu>
Stefano Stabellini <stefano.stabellini@eu.citrix.com>
Wei Wang <wei.wang2@amd.com>
------------------------------------------------------------
jobs:
build-amd64 preparing
build-i386 preparing
build-amd64-oldkern preparing
build-i386-oldkern preparing
build-amd64-pvops preparing
build-i386-pvops preparing
test-amd64-amd64-xl queued
test-amd64-i386-xl queued
test-i386-i386-xl queued
test-amd64-i386-rhel6hvm-amd queued
test-amd64-amd64-xl-win7-amd64 queued
test-amd64-i386-xl-win7-amd64 queued
test-amd64-i386-xl-credit2 queued
test-amd64-amd64-xl-pcipt-intel queued
test-amd64-i386-rhel6hvm-intel queued
test-amd64-i386-xl-multivcpu queued
test-amd64-amd64-pair queued
test-amd64-i386-pair queued
test-i386-i386-pair queued
test-amd64-amd64-xl-sedf-pin queued
test-amd64-amd64-pv queued
test-amd64-i386-pv queued
test-i386-i386-pv queued
test-amd64-amd64-xl-sedf queued
test-amd64-i386-win-vcpus1 queued
test-amd64-i386-xl-win-vcpus1 queued
test-amd64-i386-xl-winxpsp3-vcpus1 queued
test-amd64-amd64-win queued
test-amd64-i386-win queued
test-i386-i386-win queued
test-amd64-amd64-xl-win queued
test-i386-i386-xl-win queued
test-amd64-i386-xend-winxpsp3 queued
test-amd64-amd64-xl-winxpsp3 queued
test-i386-i386-xl-winxpsp3 queued
------------------------------------------------------------
sg-report-flight on woking.cam.xci-test.com
logs: /home/xc_osstest/logs
images: /home/xc_osstest/images
Logs, config files, etc. are available at
http://www.chiark.greenend.org.uk/~xensrcts/logs
Test harness code can be found at
http://xenbits.xensource.com/gitweb?p=osstest.git;a=summary
Not pushing.
(No revision log; it would be 576 lines long.)