xen.org
2011-Jun-24 12:15 UTC
[Xen-devel] [xen-unstable test] 7688: trouble: preparing/queued/running
flight 7688 xen-unstable running [real]
http://www.chiark.greenend.org.uk/~xensrcts/logs/7688/
Failures and problems with tests :-(
Tests which did not succeed and are blocking:
test-i386-xcpkern-i386-pv <none executed> queued
test-amd64-xcpkern-i386-xl-credit2 <none executed> queued
test-i386-i386-pv <none executed> queued
test-i386-i386-xl <none executed> queued
test-amd64-xcpkern-i386-xl-multivcpu <none executed>
queued
test-i386-xcpkern-i386-xl <none executed> queued
test-i386-i386-pair <none executed> queued
build-i386-pvops 1 hosts-allocate running
test-amd64-xcpkern-i386-pair <none executed> queued
test-amd64-i386-xl-credit2 <none executed> queued
test-amd64-i386-xl <none executed> queued
build-i386-oldkern 1 hosts-allocate running
test-amd64-i386-rhel6hvm-amd <none executed> queued
build-amd64-pvops 1 hosts-allocate running
build-i386 4 xen-build running
test-amd64-xcpkern-i386-xl <none executed> queued
build-amd64 1 hosts-allocate running
test-amd64-xcpkern-i386-rhel6hvm-intel <none executed>
queued
build-amd64-oldkern 1 hosts-allocate running
test-amd64-i386-xl-win-vcpus1 <none executed> queued
test-amd64-i386-xl-multivcpu <none executed> queued
test-amd64-i386-rhel6hvm-intel <none executed> queued
test-amd64-i386-win-vcpus1 <none executed> queued
test-i386-xcpkern-i386-pair <none executed> queued
test-amd64-amd64-xl <none executed> queued
test-amd64-xcpkern-i386-pv <none executed> queued
test-amd64-amd64-pv <none executed> queued
test-amd64-i386-win <none executed> queued
test-amd64-xcpkern-i386-win <none executed> queued
test-amd64-i386-pv <none executed> queued
test-amd64-amd64-win <none executed> queued
test-amd64-amd64-xl-win <none executed> queued
test-amd64-xcpkern-i386-rhel6hvm-amd <none executed>
queued
build-i386-xcpkern 1 hosts-allocate running
test-amd64-xcpkern-i386-xl-win <none executed> queued
test-i386-xcpkern-i386-win <none executed> queued
test-i386-i386-win <none executed> queued
test-i386-i386-xl-win <none executed> queued
test-amd64-amd64-pair <none executed> queued
test-amd64-i386-pair <none executed> queued
version targeted for testing:
xen b24018319772
baseline version:
xen eca057e4475c
------------------------------------------------------------
People who touched revisions under test:
Allen Kay <allen.m.kay@intel.com>
Carsten Schiers <carsten@schiers.de>
Daniel Stodden <daniel.stodden@citrix.com>
Ian Campbell <ian.campbell@citrix.com>
Ian Jackson <ian.jackson.citrix.com>
Ian Jackson <ian.jackson@eu.citrix.com>
Jan Beulich <jbeulich@novell.com>
Keir Fraser <keir@xen.org>
Marek Marczykowski <marmarek@mimuw.edu.pl>
Mike McClurg <mike.mcclurg@citrix.com>
Olaf Hering <olaf@aepfle.de>
Philipp Hahn <hahn@univention.de>
Tim Deegan <Tim.Deegan@citrix.com>
Yongjie Ren <yongjie.ren@intel.com>
Zhigang Wang <zhigang.x.wang@oracle.com>
------------------------------------------------------------
jobs:
build-i386-xcpkern preparing
build-amd64 preparing
build-i386 running
build-amd64-oldkern preparing
build-i386-oldkern preparing
build-amd64-pvops preparing
build-i386-pvops preparing
test-amd64-amd64-xl queued
test-amd64-i386-xl queued
test-i386-i386-xl queued
test-amd64-xcpkern-i386-xl queued
test-i386-xcpkern-i386-xl queued
test-amd64-i386-rhel6hvm-amd queued
test-amd64-xcpkern-i386-rhel6hvm-amd queued
test-amd64-i386-xl-credit2 queued
test-amd64-xcpkern-i386-xl-credit2 queued
test-amd64-i386-rhel6hvm-intel queued
test-amd64-xcpkern-i386-rhel6hvm-intel queued
test-amd64-i386-xl-multivcpu queued
test-amd64-xcpkern-i386-xl-multivcpu queued
test-amd64-amd64-pair queued
test-amd64-i386-pair queued
test-i386-i386-pair queued
test-amd64-xcpkern-i386-pair queued
test-i386-xcpkern-i386-pair queued
test-amd64-amd64-pv queued
test-amd64-i386-pv queued
test-i386-i386-pv queued
test-amd64-xcpkern-i386-pv queued
test-i386-xcpkern-i386-pv queued
test-amd64-i386-win-vcpus1 queued
test-amd64-i386-xl-win-vcpus1 queued
test-amd64-amd64-win queued
test-amd64-i386-win queued
test-i386-i386-win queued
test-amd64-xcpkern-i386-win queued
test-i386-xcpkern-i386-win queued
test-amd64-amd64-xl-win queued
test-i386-i386-xl-win queued
test-amd64-xcpkern-i386-xl-win queued
------------------------------------------------------------
sg-report-flight on woking.cam.xci-test.com
logs: /home/xc_osstest/logs
images: /home/xc_osstest/images
Logs, config files, etc. are available at
http://www.chiark.greenend.org.uk/~xensrcts/logs
Test harness code can be found at
http://xenbits.xensource.com/gitweb?p=osstest.git;a=summary
Not pushing.
(No revision log; it would be 650 lines long.)
_______________________________________________
Xen-devel mailing list
Xen-devel@lists.xensource.com
http://lists.xensource.com/xen-devel