flight 2521 xen-unstable real
http://www.chiark.greenend.org.uk/~xensrcts/logs/2521/
tests which did not succeed:
none - all tests in this flight passed
version targeted for testing:
xen ee4d52f0d16a
jobs:
build-i386-xcpkern pass
build-amd64 pass
build-i386 pass
build-amd64-oldkern pass
build-i386-oldkern pass
test-amd64-amd64-xl pass
test-amd64-i386-xl pass
test-i386-i386-xl pass
test-amd64-xcpkern-i386-xl pass
test-i386-xcpkern-i386-xl pass
test-amd64-amd64-pair pass
test-amd64-i386-pair pass
test-i386-i386-pair pass
test-amd64-xcpkern-i386-pair pass
test-i386-xcpkern-i386-pair pass
test-amd64-amd64-pv pass
test-amd64-i386-pv pass
test-i386-i386-pv pass
test-amd64-xcpkern-i386-pv pass
test-i386-xcpkern-i386-pv pass
test-amd64-amd64-win pass
test-amd64-i386-win pass
test-i386-i386-win pass
test-amd64-xcpkern-i386-win pass
test-i386-xcpkern-i386-win pass
-------------------------------------------------------------------------------
build-i386-xcpkern:
1 hosts-allocate pass
2 host-install(2) pass
3 host-build-prep pass
4 kernel-build pass
linux 110879:32fc6955a6a5
pq_linux 158:7305f634f98c
-------------------------------------------------------------------------------
build-amd64:
1 hosts-allocate pass
2 host-install(2) pass
3 host-build-prep pass
4 xen-build pass
linux 6c72eadd151f6f1b9049
qemu bd5608d7ab3175af2707
xen 22344:ee4d52f0d16a
-------------------------------------------------------------------------------
build-i386:
1 hosts-allocate pass
2 host-install(2) pass
3 host-build-prep pass
4 xen-build pass
linux 6c72eadd151f6f1b9049
qemu bd5608d7ab3175af2707
xen 22344:ee4d52f0d16a
-------------------------------------------------------------------------------
build-amd64-oldkern:
1 hosts-allocate pass
2 host-install(2) pass
3 host-build-prep pass
4 xen-build pass
linux 1044:f4357b64a3ce
qemu bd5608d7ab3175af2707
xen 22344:ee4d52f0d16a
-------------------------------------------------------------------------------
build-i386-oldkern:
1 hosts-allocate pass
2 host-install(2) pass
3 host-build-prep pass
4 xen-build pass
linux 1044:f4357b64a3ce
qemu bd5608d7ab3175af2707
xen 22344:ee4d52f0d16a
-------------------------------------------------------------------------------
test-amd64-amd64-xl:
1 xen-build-check(1) pass
2 hosts-allocate pass
3 host-install(3) pass
4 xen-install pass
5 xen-boot pass
6 debian-install pass
7 debian-fixup pass
8 guest-start pass
9 guest-saverestore pass
10 guest-localmigrate pass
11 guest-saverestore.2 pass
12 guest-localmigrate.2 pass
13 guest-stop pass
14 capture-logs(14) pass
-------------------------------------------------------------------------------
test-amd64-i386-xl:
1 xen-build-check(1) pass
2 hosts-allocate pass
3 host-install(3) pass
4 xen-install pass
5 xen-boot pass
6 debian-install pass
7 debian-fixup pass
8 guest-start pass
9 guest-saverestore pass
10 guest-localmigrate pass
11 guest-saverestore.2 pass
12 guest-localmigrate.2 pass
13 guest-stop pass
14 capture-logs(14) pass
-------------------------------------------------------------------------------
test-i386-i386-xl:
1 xen-build-check(1) pass
2 hosts-allocate pass
3 host-install(3) pass
4 xen-install pass
5 xen-boot pass
6 debian-install pass
7 debian-fixup pass
8 guest-start pass
9 guest-saverestore pass
10 guest-localmigrate pass
11 guest-saverestore.2 pass
12 guest-localmigrate.2 pass
13 guest-stop pass
14 capture-logs(14) pass
-------------------------------------------------------------------------------
test-amd64-xcpkern-i386-xl:
1 xen-build-check(1) pass
2 hosts-allocate pass
3 host-install(3) pass
4 xen-install pass
5 xen-boot pass
6 debian-install pass
7 debian-fixup pass
8 guest-start pass
9 guest-saverestore pass
10 guest-localmigrate pass
11 guest-saverestore.2 pass
12 guest-localmigrate.2 pass
13 guest-stop pass
14 capture-logs(14) pass
-------------------------------------------------------------------------------
test-i386-xcpkern-i386-xl:
1 xen-build-check(1) pass
2 hosts-allocate pass
3 host-install(3) pass
4 xen-install pass
5 xen-boot pass
6 debian-install pass
7 debian-fixup pass
8 guest-start pass
9 guest-saverestore pass
10 guest-localmigrate pass
11 guest-saverestore.2 pass
12 guest-localmigrate.2 pass
13 guest-stop pass
14 capture-logs(14) pass
-------------------------------------------------------------------------------
test-amd64-amd64-pair:
1 xen-build-check(1) pass
2 hosts-allocate pass
3 host-install/src_host(3) pass
4 host-install/dst_host(4) pass
5 xen-install/src_host pass
6 xen-install/dst_host pass
7 xen-boot/src_host pass
8 xen-boot/dst_host pass
9 debian-install/dst_host pass
10 debian-fixup/dst_host pass
11 guests-nbd-mirror pass
12 guest-start pass
13 guest-migrate/src_host/dst_host pass
14 guest-migrate/dst_host/src_host pass
15 capture-logs/src_host(15) pass
16 capture-logs/dst_host(16) pass
-------------------------------------------------------------------------------
test-amd64-i386-pair:
1 xen-build-check(1) pass
2 hosts-allocate pass
3 host-install/src_host(3) pass
4 host-install/dst_host(4) pass
5 xen-install/src_host pass
6 xen-install/dst_host pass
7 xen-boot/src_host pass
8 xen-boot/dst_host pass
9 debian-install/dst_host pass
10 debian-fixup/dst_host pass
11 guests-nbd-mirror pass
12 guest-start pass
13 guest-migrate/src_host/dst_host pass
14 guest-migrate/dst_host/src_host pass
15 capture-logs/src_host(15) pass
16 capture-logs/dst_host(16) pass
-------------------------------------------------------------------------------
test-i386-i386-pair:
1 xen-build-check(1) pass
2 hosts-allocate pass
3 host-install/src_host(3) pass
4 host-install/dst_host(4) pass
5 xen-install/src_host pass
6 xen-install/dst_host pass
7 xen-boot/src_host pass
8 xen-boot/dst_host pass
9 debian-install/dst_host pass
10 debian-fixup/dst_host pass
11 guests-nbd-mirror pass
12 guest-start pass
13 guest-migrate/src_host/dst_host pass
14 guest-migrate/dst_host/src_host pass
15 capture-logs/src_host(15) pass
16 capture-logs/dst_host(16) pass
-------------------------------------------------------------------------------
test-amd64-xcpkern-i386-pair:
1 xen-build-check(1) pass
2 hosts-allocate pass
3 host-install/src_host(3) pass
4 host-install/dst_host(4) pass
5 xen-install/src_host pass
6 xen-install/dst_host pass
7 xen-boot/src_host pass
8 xen-boot/dst_host pass
9 debian-install/dst_host pass
10 debian-fixup/dst_host pass
11 guests-nbd-mirror pass
12 guest-start pass
13 guest-migrate/src_host/dst_host pass
14 guest-migrate/dst_host/src_host pass
15 capture-logs/src_host(15) pass
16 capture-logs/dst_host(16) pass
-------------------------------------------------------------------------------
test-i386-xcpkern-i386-pair:
1 xen-build-check(1) pass
2 hosts-allocate pass
3 host-install/src_host(3) pass
4 host-install/dst_host(4) pass
5 xen-install/src_host pass
6 xen-install/dst_host pass
7 xen-boot/src_host pass
8 xen-boot/dst_host pass
9 debian-install/dst_host pass
10 debian-fixup/dst_host pass
11 guests-nbd-mirror pass
12 guest-start pass
13 guest-migrate/src_host/dst_host pass
14 guest-migrate/dst_host/src_host pass
15 capture-logs/src_host(15) pass
16 capture-logs/dst_host(16) pass
-------------------------------------------------------------------------------
test-amd64-amd64-pv:
1 xen-build-check(1) pass
2 hosts-allocate pass
3 host-install(3) pass
4 xen-install pass
5 xen-boot pass
6 debian-install pass
7 debian-fixup pass
8 guest-start pass
9 guest-saverestore pass
10 guest-localmigrate pass
11 guest-saverestore.2 pass
12 guest-localmigrate.2 pass
13 guest-stop pass
14 capture-logs(14) pass
-------------------------------------------------------------------------------
test-amd64-i386-pv:
1 xen-build-check(1) pass
2 hosts-allocate pass
3 host-install(3) pass
4 xen-install pass
5 xen-boot pass
6 debian-install pass
7 debian-fixup pass
8 guest-start pass
9 guest-saverestore pass
10 guest-localmigrate pass
11 guest-saverestore.2 pass
12 guest-localmigrate.2 pass
13 guest-stop pass
14 capture-logs(14) pass
-------------------------------------------------------------------------------
test-i386-i386-pv:
1 xen-build-check(1) pass
2 hosts-allocate pass
3 host-install(3) pass
4 xen-install pass
5 xen-boot pass
6 debian-install pass
7 debian-fixup pass
8 guest-start pass
9 guest-saverestore pass
10 guest-localmigrate pass
11 guest-saverestore.2 pass
12 guest-localmigrate.2 pass
13 guest-stop pass
14 capture-logs(14) pass
-------------------------------------------------------------------------------
test-amd64-xcpkern-i386-pv:
1 xen-build-check(1) pass
2 hosts-allocate pass
3 host-install(3) pass
4 xen-install pass
5 xen-boot pass
6 debian-install pass
7 debian-fixup pass
8 guest-start pass
9 guest-saverestore pass
10 guest-localmigrate pass
11 guest-saverestore.2 pass
12 guest-localmigrate.2 pass
13 guest-stop pass
14 capture-logs(14) pass
-------------------------------------------------------------------------------
test-i386-xcpkern-i386-pv:
1 xen-build-check(1) pass
2 hosts-allocate pass
3 host-install(3) pass
4 xen-install pass
5 xen-boot pass
6 debian-install pass
7 debian-fixup pass
8 guest-start pass
9 guest-saverestore pass
10 guest-localmigrate pass
11 guest-saverestore.2 pass
12 guest-localmigrate.2 pass
13 guest-stop pass
14 capture-logs(14) pass
-------------------------------------------------------------------------------
test-amd64-amd64-win:
1 xen-build-check(1) pass
2 hosts-allocate pass
3 host-install(3) pass
4 xen-install pass
5 xen-boot pass
6 windows-install pass
7 guest-saverestore pass
8 guest-localmigrate pass
9 guest-saverestore.2 pass
10 guest-localmigrate.2 pass
11 guest-stop pass
12 capture-logs(12) pass
-------------------------------------------------------------------------------
test-amd64-i386-win:
1 xen-build-check(1) pass
2 hosts-allocate pass
3 host-install(3) pass
4 xen-install pass
5 xen-boot pass
6 windows-install pass
7 guest-saverestore pass
8 guest-localmigrate pass
9 guest-saverestore.2 pass
10 guest-localmigrate.2 pass
11 guest-stop pass
12 capture-logs(12) pass
-------------------------------------------------------------------------------
test-i386-i386-win:
1 xen-build-check(1) pass
2 hosts-allocate pass
3 host-install(3) pass
4 xen-install pass
5 xen-boot pass
6 windows-install pass
7 guest-saverestore pass
8 guest-localmigrate pass
9 guest-saverestore.2 pass
10 guest-localmigrate.2 pass
11 guest-stop pass
12 capture-logs(12) pass
-------------------------------------------------------------------------------
test-amd64-xcpkern-i386-win:
1 xen-build-check(1) pass
2 hosts-allocate pass
3 host-install(3) pass
4 xen-install pass
5 xen-boot pass
6 windows-install pass
7 guest-saverestore pass
8 guest-localmigrate pass
9 guest-saverestore.2 pass
10 guest-localmigrate.2 pass
11 guest-stop pass
12 capture-logs(12) pass
-------------------------------------------------------------------------------
test-i386-xcpkern-i386-win:
1 xen-build-check(1) pass
2 hosts-allocate pass
3 host-install(3) pass
4 xen-install pass
5 xen-boot pass
6 windows-install pass
7 guest-saverestore pass
8 guest-localmigrate pass
9 guest-saverestore.2 pass
10 guest-localmigrate.2 pass
11 guest-stop pass
12 capture-logs(12) pass
------------------------------------------------------------
sg-report-flight on woking.cam.xci-test.com
logs: /home/xc_osstest/logs
images: /home/xc_osstest/images
Logs, config files, etc. are available at
http://www.chiark.greenend.org.uk/~xensrcts/logs
Test harness code can be found at
http://xenbits.xensource.com/gitweb?p=osstest.git;a=summary
Published tested tree is already up to date.
_______________________________________________
Xen-devel mailing list
Xen-devel@lists.xensource.com
http://lists.xensource.com/xen-devel
On Wed, Nov 03, xen.org wrote:> flight 2521 xen-unstable real > http://www.chiark.greenend.org.uk/~xensrcts/logs/2521/ > > tests which did not succeed: > none - all tests in this flight passedI just checked my quilt queue and wonder why I still need this patch to get around the assert in the python code? http://lists.xensource.com/archives/html/xen-devel/2010-08/msg01461.html A fix for this is here: http://lists.xensource.com/archives/html/xen-devel/2010-08/msg01813.html Olaf _______________________________________________ Xen-devel mailing list Xen-devel@lists.xensource.com http://lists.xensource.com/xen-devel
Olaf Hering writes ("Re: [Xen-devel] [xen-unstable test] 2521: all
pass"):> I just checked my quilt queue and wonder why I still need this patch to
> get around the assert in the python code?
> http://lists.xensource.com/archives/html/xen-devel/2010-08/msg01461.html
I don''t know.
> A fix for this is here:
> http://lists.xensource.com/archives/html/xen-devel/2010-08/msg01813.html
That''s in xen-unstable, too.
Ian.
_______________________________________________
Xen-devel mailing list
Xen-devel@lists.xensource.com
http://lists.xensource.com/xen-devel
On Wed, Nov 03, Ian Jackson wrote:> Olaf Hering writes ("Re: [Xen-devel] [xen-unstable test] 2521: all pass"): > > I just checked my quilt queue and wonder why I still need this patch to > > get around the assert in the python code? > > http://lists.xensource.com/archives/html/xen-devel/2010-08/msg01461.html > > I don''t know. > > > A fix for this is here: > > http://lists.xensource.com/archives/html/xen-devel/2010-08/msg01813.html > > That''s in xen-unstable, too.Are you sure? My copy looks like this, and the patch still applies. 686 # Convert scheduling parameters to vcpus_params 687 if ''vcpus_params'' not in cfg: 688 cfg[''vcpus_params''] = {} 689 if not cfg["vcpus_params"].has_key("weight"): 690 cfg["vcpus_params"]["weight"] = \ 691 int(sxp.child_value(sxp_cfg, "cpu_weight", 256)) 692 if not cfg["vcpus_params"].has_key("cap"): 693 cfg["vcpus_params"]["cap"] = \ 694 int(sxp.child_value(sxp_cfg, "cpu_cap", 0)) Olaf _______________________________________________ Xen-devel mailing list Xen-devel@lists.xensource.com http://lists.xensource.com/xen-devel
Olaf Hering writes ("Re: [Xen-devel] [xen-unstable test] 2521: all
pass"):> Are you sure?
> My copy looks like this, and the patch still applies.
>
> 686 # Convert scheduling parameters to vcpus_params
> 687 if ''vcpus_params'' not in cfg:
> 688 cfg[''vcpus_params''] = {}
> 689 if not
cfg["vcpus_params"].has_key("weight"):
> 690 cfg["vcpus_params"]["weight"] = \
> 691 int(sxp.child_value(sxp_cfg, "cpu_weight",
256))
> 692 if not cfg["vcpus_params"].has_key("cap"):
> 693 cfg["vcpus_params"]["cap"] = \
> 694 int(sxp.child_value(sxp_cfg, "cpu_cap", 0))
Oh, I see you''re right. I misread the subject of the mailing list
article.
I''ve applied it now, sorry.
Ian.
_______________________________________________
Xen-devel mailing list
Xen-devel@lists.xensource.com
http://lists.xensource.com/xen-devel